BEGIN:VCALENDAR
VERSION:2.0
METHOD:PUBLISH
BEGIN:VEVENT
DTSTART:20260810T180000
DTEND:20261112T220000
LOCATION:
TRANSP: OPAQUE
SEQUENCE:0
UID:
DTSTAMP:20260419T184719
SUMMARY:August EMT Cohort Night- Live Session
DESCRIPTION:Every Monday, Wednesday, and ThursdayStart Date: 8/10/2026End Date: 11/12/2026Number of Lab Days 12

Click Here for Full Course Schedule
Click here to apply! (Self Pay)
Click here to apply! (Employer Pay)

PRIORITY:1
CLASS:PUBLIC
BEGIN:VALARM
TZOFFSETTO:-0600
ACTION:DISPLAY
DESCRIPTION:Reminder
END:VALARM
END:VEVENT
END:VCALENDAR
