BEGIN:VCALENDAR
VERSION:2.0
METHOD:PUBLISH
BEGIN:VEVENT
DTSTART:20260820T090000
DTEND:20270530T180000
LOCATION:
TRANSP: OPAQUE
SEQUENCE:0
UID:
DTSTAMP:20260419T184611
SUMMARY:August Cohort - Live Session B Shift
DESCRIPTION:B-ShiftStart Date: 8/20/2026End Date: 4/26/2027Number of Lab Days 13

Click Here for Full Course Schedule
Click here to apply! (Self Pay)
Click here to apply! (Employer Pay)


PRIORITY:1
CLASS:PUBLIC
BEGIN:VALARM
TZOFFSETTO:-0600
ACTION:DISPLAY
DESCRIPTION:Reminder
END:VALARM
END:VEVENT
END:VCALENDAR
