BEGIN:VCALENDAR
VERSION:2.0
METHOD:PUBLISH
BEGIN:VEVENT
DTSTART:20261104T090000
DTEND:20270708T180000
LOCATION:
TRANSP: OPAQUE
SEQUENCE:0
UID:
DTSTAMP:20260419T185024
SUMMARY:November Cohort - Live Session C Shift
DESCRIPTION:C-ShiftStart Date: 11/04/2026End Date: 7/8/2027Number of Lab Days 13

Click Here for Full Course Schedule
Click here to apply! (Self Pay)
Click here to apply! (Employer Pay)


PRIORITY:1
CLASS:PUBLIC
BEGIN:VALARM
TZOFFSETTO:-0600
ACTION:DISPLAY
DESCRIPTION:Reminder
END:VALARM
END:VEVENT
END:VCALENDAR
