BEGIN:VCALENDAR
VERSION:2.0
METHOD:PUBLISH
BEGIN:VEVENT
DTSTART:20261123T080000
DTEND:20271010T170000
LOCATION:
TRANSP: OPAQUE
SEQUENCE:0
UID:
DTSTAMP:20260419T185255
SUMMARY:November Cohort - Hybrid
DESCRIPTION:Hybrid (Online and Live Sessions)Start Date: 11/23/2026End Date: 12/20/2027Number of Lab Days 13

Click Here for Full Course Schedule
Click here to apply! (Self Pay)
Click here to apply! (Employer Pay)

PRIORITY:1
CLASS:PUBLIC
BEGIN:VALARM
TZOFFSETTO:-0600
ACTION:DISPLAY
DESCRIPTION:Reminder
END:VALARM
END:VEVENT
END:VCALENDAR
