BEGIN:VCALENDAR
VERSION:2.0
METHOD:PUBLISH
BEGIN:VEVENT
DTSTART:20260907T080000
DTEND:20270725T170000
LOCATION:
TRANSP: OPAQUE
SEQUENCE:0
UID:
DTSTAMP:20260419T184534
SUMMARY:September Cohort - Online
DESCRIPTION:Start Date: 9/7/2026End Date: 7/25/2027Number of Lab Days 13

Click Here for Full Course Schedule
Click here to apply! (Self Pay)
Click here to apply! (Employer Pay)


PRIORITY:1
CLASS:PUBLIC
BEGIN:VALARM
TZOFFSETTO:-0600
ACTION:DISPLAY
DESCRIPTION:Reminder
END:VALARM
END:VEVENT
END:VCALENDAR
